BEGIN:VCALENDAR
VERSION:2.0
PRODID:Events Booking
BEGIN:VEVENT
UID:69eb78a502bae
SUMMARY:COURS COLLECTIF SAMEDI 9 MAI 2026
DESCRIPTION:Thématique : Le bunker\, c'est facile...!!!
LOCATION:Golf de Barbaroux\, La Provençale\, Flassans-sur-Issole\, Brignol
 es\, Var\, Provence-Alpes-Côte d'Azur\, France métropolitaine\, 83340\, 
 France
DTSTART:20260509T120000Z
DTEND:20260509T133000Z
DTSTAMP:20260401T053548Z
ORGANIZER;CN=Contact ASG Barbaroux:MAILTO:contact@asg-barbaroux.fr
GEO:43.404424;6.168995
X-APPLE-STRUCTURED-LOCATION;VALUE=URI;X-ADDRESS=Golf de Barbaroux\, La Prov
 ençale\, Flassans-sur-Issole\, Brignoles\, Var\, Provence-Alpes-Côte d'A
 zur\, France métropolitaine\, 83340\, France;X-APPLE-RADIUS=72;X-TITLE=Go
 lf de Barbaroux:43.404424;6.168995
END:VEVENT
END:VCALENDAR